BEGIN:VCALENDAR
VERSION:2.0
PRODID:DPCALENDAR
CALSCALE:GREGORIAN
BEGIN:VTIMEZONE
TZID:Europe/Warsaw
BEGIN:STANDARD
DTSTART:20251026T010000
TZOFFSETFROM:+0200
TZOFFSETTO:+0100
TZNAME:CET
END:STANDARD
BEGIN:STANDARD
DTSTART:20261025T010000
TZOFFSETFROM:+0200
TZOFFSETTO:+0100
TZNAME:CET
END:STANDARD
BEGIN:DAYLIGHT
DTSTART:20260329T010000
TZOFFSETFROM:+0100
TZOFFSETTO:+0200
TZNAME:CEST
END:DAYLIGHT
END:VTIMEZONE
X-WR-TIMEZONE:Europe/Warsaw
BEGIN:VEVENT
DTSTART;TZID=Europe/Warsaw:20241012T210000
DTEND;TZID=Europe/Warsaw:20241026T233000
UID:22BB0FAF-030F-4E94-9521-FEBB007E8391
SUMMARY:Nocne Zwiedzanie
CREATED:20241007T104309Z
DTSTAMP:20241007T104309Z
URL:https://www.twierdza.klodzko.pl
DESCRIPTION:Jak w niesamowity sposób spędzić czas? Wziąć udział w Nocnym Zwiedzaniu Twierdzy Kłodzko. Zostaniecie wrzuceni w wir wydarzeń 1807 roku.\NWróg zbliża się do miasta, mieszkańcy nie czują się bezpieczni i szukają schronienia wewnątrz fortyfikacji. Nie ma jednak nic za darmo – żołnierze co prawda dali się ubłagać i wpuścili cywili za grube mury, ale teraz mieszkańcy muszą się odwdzięczyć. Czeka ich ważna misja... Pomożecie odeprzeć atak wroga? Czekają Was poszukiwania prochu w podziemnym labiryncie chodników kontrminowych, musztra, na swej drodze spotkacie ciekawe postacie, które co nieco Wam opowiedzą i pokażą...\NAby zarezerwować miejsce na Nocne Zwiedzanie Twierdzy Kłodzko, należy wysłać e-mail na adres: nocne@twierdza.klodzko.pl i wskazać konkretny termin.\NW najbliższym czasie Nocne Zwiedzanie Twierdzy Kłodzko odbywać się będzie:\N\N 12, 19, 26 października (godz. 19.00)\N\NCena: 60 zł od osoby
X-ALT-DESC;FMTTYPE=text/html:<p>Jak w niesamowity sposób spędzić czas? Wziąć udział w Nocnym Zwiedzaniu Twierdzy Kłodzko. Zostaniecie wrzuceni w wir wydarzeń 1807 roku.</p><p>Wróg zbliża się do miasta, mieszkańcy nie czują się bezpieczni i szukają schronienia wewnątrz fortyfikacji. Nie ma jednak nic za darmo – żołnierze co prawda dali się ubłagać i wpuścili cywili za grube mury, ale teraz mieszkańcy muszą się odwdzięczyć. Czeka ich ważna misja...&nbsp;Pomożecie odeprzeć atak wroga? Czekają Was poszukiwania prochu w podziemnym labiryncie chodników kontrminowych, musztra, na swej drodze spotkacie ciekawe postacie, które co nieco Wam opowiedzą i pokażą...</p><p>Aby zarezerwować miejsce na Nocne Zwiedzanie Twierdzy Kłodzko, należy wysłać e-mail na adres:&nbsp;<strong><strong><a href="mailto:nocne@twierdza.klodzko.pl"></a><a href="mailto:nocne@twierdza.klodzko.pl">nocne@twierdza.klodzko.pl</a></strong></strong>&nbsp;i wskazać konkretny termin.</p><p>W najbliższym czasie Nocne Zwiedzanie Twierdzy Kłodzko odbywać się będzie:</p><ul><li><strong><strong> 12, 19, 26 października (godz. 19.00)</strong></strong></li></ul><p>Cena: 60 zł od osoby</p>
LAST-MODIFIED:20241007T104309Z
SEQUENCE:0
LOCATION:Grodzisko\, 57-300 Kłodzko\, Polska
GEO:50.43974131;16.65323496
X-LOCATION-DISPLAYNAME:Twierdza Kłodzko
X-ACCESS:1
X-HITS:31
X-COLOR:bd0aa2
X-IMAGE-FULL:https://www.um.klodzko.pl/images/news/2024/nocne_pazdziernik.jpg
X-SHOW-END-TIME:1
END:VEVENT
BEGIN:VEVENT
DTSTART;TZID=Europe/Warsaw:20241206T180000
DTEND;TZID=Europe/Warsaw:20241230T180000
UID:C715758F-9101-46E9-9ACE-6C48217AB6FD
SUMMARY:Nocne Zwiedzanie
CREATED:20241125T084847Z
DTSTAMP:20241125T084847Z
URL:https://www.twierdza.klodzko.pl/
DESCRIPTION:W grudniu zawsze jest zamieszanie – koniec roku, święta... Warto jednak oderwać się od codzienności i trochę się zabawić 6, 14, 20, 21, 30 grudnia o godz. 17.00 zapraszamy na Nocne Zwiedzanie Twierdzy Kłodzko. I jak zawsze czeka na Was świetna przygoda.\NAby dokonać rezerwacji, wystarczy napisać na adres: nocne@twierdza.klodzko.pl i wskazać konkretny termin.\NCena: 60 zł od osoby
X-ALT-DESC;FMTTYPE=text/html:<p>W grudniu zawsze jest zamieszanie – koniec roku, święta... Warto jednak oderwać się od codzienności i trochę się zabawić 6, 14, 20, 21, 30 grudnia o godz. 17.00 zapraszamy na Nocne Zwiedzanie Twierdzy Kłodzko. I jak zawsze czeka na Was świetna przygoda.</p><p>Aby dokonać rezerwacji, wystarczy napisać na adres: <a href="mailto:nocne@twierdza.klodzko.pl"></a><a href="mailto:nocne@twierdza.klodzko.pl">nocne@twierdza.klodzko.pl</a> i wskazać konkretny termin.</p><p>Cena: 60 zł od osoby</p>
LAST-MODIFIED:20241125T084847Z
SEQUENCE:0
LOCATION:Grodzisko\, 57-300 Kłodzko\, Polska
GEO:50.43974131;16.65323496
X-LOCATION-DISPLAYNAME:Twierdza Kłodzko
X-ACCESS:1
X-HITS:39
X-COLOR:bd0aa2
X-IMAGE-FULL:https://www.um.klodzko.pl/images/news/2024/zwiedzanie_grudzien.jpg
X-SHOW-END-TIME:1
END:VEVENT
BEGIN:VEVENT
DTSTART;TZID=Europe/Warsaw:20250103T180000
DTEND;TZID=Europe/Warsaw:20250124T200000
UID:F3CE460C-2EEF-4A42-A513-DCC7C1420117
SUMMARY:Nocne Zwiedzanie
CREATED:20250102T083447Z
DTSTAMP:20250102T083447Z
URL:https://www.twierdza.klodzko.pl
DESCRIPTION:Polecamy wyjątkowe Nocne Zwiedzanie Twierdzy Kłodzko, podczas którego przeżyjecie niezapomnianą przygodę. Najbliższe terminy Nocnego Zwiedzania Twierdzy Kłodzko: 3, 11, 18, 24 stycznia o godz. 17.00\NAby zarezerwować termin, wystarczy napisać na 📧 nocne@twierdza.klodzko.pl\NCena: 60 zł od osoby
X-ALT-DESC;FMTTYPE=text/html:<p>Polecamy wyjątkowe Nocne Zwiedzanie Twierdzy Kłodzko, podczas którego przeżyjecie niezapomnianą przygodę. Najbliższe terminy Nocnego Zwiedzania Twierdzy Kłodzko: 3, 11, 18, 24 stycznia o godz. 17.00</p><p>Aby zarezerwować termin, wystarczy napisać na 📧&nbsp;<a href="mailto:nocne@twierdza.klodzko.pl"></a><a href="mailto:nocne@twierdza.klodzko.pl">nocne@twierdza.klodzko.pl</a></p><p>Cena: 60 zł od osoby</p>
LAST-MODIFIED:20250102T083447Z
SEQUENCE:0
LOCATION:Grodzisko\, 57-300 Kłodzko\, Polska
GEO:50.43974131;16.65323496
X-LOCATION-DISPLAYNAME:Twierdza Kłodzko
X-ACCESS:1
X-HITS:61
X-COLOR:bd0aa2
X-IMAGE-FULL:https://www.um.klodzko.pl/images/news/2025/nocne_zwiedzanie_styczen2025.jpg
X-SHOW-END-TIME:1
END:VEVENT
BEGIN:VEVENT
DTSTART;TZID=Europe/Warsaw:20250201T180000
DTEND;TZID=Europe/Warsaw:20250228T190000
UID:0B655C16-F995-4375-9B4F-FE206FFE39B2
SUMMARY:Nocne zwiedzanie
CREATED:20250124T082221Z
DTSTAMP:20250124T082221Z
URL:https://www.twierdza.klodzko.pl
DESCRIPTION:1, 7, 8, 14, 15, 21, 22, 28 lutego - godz. 17.00 to terminy Nocnego Zwiedzania Twierdzy Kłodzko i zachęcamy Was do udziału, bo to świetna zabawa, przygoda, a przy okazji liźnie się co nieco arcyciekawej historii regionu.Co należy zrobić, aby zarezerwować termin? Wystarczy napisać na adres: nocne@twierdza.klodzko i wskazać interesującą Was datę. Cena: 60 zł od osoby
X-ALT-DESC;FMTTYPE=text/html:<p>1, 7, 8, 14, 15, 21, 22, 28 lutego - godz. 17.00 to terminy Nocnego Zwiedzania Twierdzy Kłodzko i zachęcamy Was do udziału, bo to świetna zabawa, przygoda, a przy okazji liźnie się co nieco arcyciekawej historii regionu.<br />Co należy zrobić, aby zarezerwować termin? Wystarczy napisać na adres: <a href="mailto:nocne@twierdza.klodzko">nocne@twierdza.klodzko</a> i wskazać interesującą Was datę. <br />Cena: 60 zł od osoby</p>
LAST-MODIFIED:20250124T082221Z
SEQUENCE:0
LOCATION:Grodzisko\, 57-300 Kłodzko\, Polska
GEO:50.43974131;16.65323496
X-LOCATION-DISPLAYNAME:Twierdza Kłodzko
X-ACCESS:1
X-HITS:306
X-COLOR:bd0aa2
X-IMAGE-FULL:https://www.um.klodzko.pl/images/news/2025/nocne_zwiedzanie_luty2025.jpg
X-SHOW-END-TIME:1
END:VEVENT
BEGIN:VEVENT
DTSTART;TZID=Europe/Warsaw:20250328T190000
DTEND;TZID=Europe/Warsaw:20250328T210000
UID:33F24BC0-AB6B-42CD-BA65-5D3E63175935
SUMMARY:Nocne Zwiedzanie
CREATED:20250305T101325Z
DTSTAMP:20250305T101325Z
URL:https://www.twierdza.klodzko.pl/
DESCRIPTION:Jak w niesamowity sposób spędzić czas? Wziąć udział w Nocnym Zwiedzaniu Twierdzy Kłodzko. Zostaniecie wrzuceni w wir wydarzeń 1807 roku.\NWróg zbliża się do miasta, mieszkańcy nie czują się bezpieczni i szukają schronienia wewnątrz fortyfikacji. Nie ma jednak nic za darmo – żołnierze co prawda dali się ubłagać i wpuścili cywili za grube mury, ale teraz mieszkańcy muszą się odwdzięczyć. Czeka ich ważna misja... Pomożecie odeprzeć atak wroga? Czekają Was poszukiwania prochu w podziemnym labiryncie chodników kontrminowych, musztra, na swej drodze spotkacie ciekawe postacie, które co nieco Wam opowiedzą i pokażą...\NAby zarezerwować miejsce na Nocne Zwiedzanie Twierdzy Kłodzko, należy wysłać e-mail na adres: nocne@twierdza.klodzko.pl lub zadzwonić pod numer tel. 509 951 488 i wskazać konkretny termin.\NW najbliższym czasie Nocne Zwiedzanie Twierdzy Kłodzko odbywać się będzie: 1, 8, 14, 22, 28 marca (godz. 19.00)\NCena: 60 zł od osoby
X-ALT-DESC;FMTTYPE=text/html:<p>Jak w niesamowity sposób spędzić czas? Wziąć udział w Nocnym Zwiedzaniu Twierdzy Kłodzko. Zostaniecie wrzuceni w wir wydarzeń 1807 roku.</p><p>Wróg zbliża się do miasta, mieszkańcy nie czują się bezpieczni i szukają schronienia wewnątrz fortyfikacji. Nie ma jednak nic za darmo – żołnierze co prawda dali się ubłagać i wpuścili cywili za grube mury, ale teraz mieszkańcy muszą się odwdzięczyć. Czeka ich ważna misja... Pomożecie odeprzeć atak wroga? Czekają Was poszukiwania prochu w podziemnym labiryncie chodników kontrminowych, musztra, na swej drodze spotkacie ciekawe postacie, które co nieco Wam opowiedzą i pokażą...</p><p>Aby zarezerwować miejsce na Nocne Zwiedzanie Twierdzy Kłodzko, należy wysłać e-mail na adres: <a href="mailto:nocne@twierdza.klodzko.pl"></a><a href="mailto:nocne@twierdza.klodzko.pl">nocne@twierdza.klodzko.pl</a> lub zadzwonić pod numer tel. 509 951 488 i wskazać konkretny termin.</p><p>W najbliższym czasie Nocne Zwiedzanie Twierdzy Kłodzko odbywać się będzie: 1, 8, 14, 22, 28 marca (godz. 19.00)</p><p>Cena: 60 zł od osoby</p>
LAST-MODIFIED:20250305T101325Z
SEQUENCE:0
LOCATION:Grodzisko\, 57-300 Kłodzko\, Polska
GEO:50.43974131;16.65323496
X-LOCATION-DISPLAYNAME:Twierdza Kłodzko
X-ACCESS:1
X-HITS:248
X-COLOR:bd0aa2
X-IMAGE-FULL:https://www.um.klodzko.pl/images/news/2025/nocne-marzec.jpg
X-SHOW-END-TIME:1
END:VEVENT
BEGIN:VEVENT
DTSTART;TZID=Europe/Warsaw:20250401T203000
DTEND;TZID=Europe/Warsaw:20250430T213000
UID:F94813A3-400C-4BB7-A159-F7CE8E2640D7
SUMMARY:Nocne zwiedzanie
CREATED:20250401T101908Z
DTSTAMP:20250401T101908Z
URL:https://www.um.klodzko.pl/pl/aktualnosci/kalendarz-wydarzen/nocne-zwiedzanie-10.html
DESCRIPTION:Jak w niesamowity sposób spędzić czas? Wziąć udział w Nocnym Zwiedzaniu Twierdzy Kłodzko. Zostaniecie wrzuceni w wir wydarzeń 1807 roku.\NWróg zbliża się do miasta, mieszkańcy nie czują się bezpieczni i szukają schronienia wewnątrz fortyfikacji. Nie ma jednak nic za darmo – żołnierze co prawda dali się ubłagać i wpuścili cywili za grube mury, ale teraz mieszkańcy muszą się odwdzięczyć. Czeka ich ważna misja... Pomożecie odeprzeć atak wroga? Czekają Was poszukiwania prochu w podziemnym labiryncie chodników kontrminowych, musztra, na swej drodze spotkacie ciekawe postacie, które co nieco Wam opowiedzą i pokażą...\NAby zarezerwować miejsce na Nocne Zwiedzanie Twierdzy Kłodzko, należy wysłać e-mail na adres: nocne@twierdza.klodzko.pl lub zadzwonić pod numer tel. 509 951 488 i wskazać konkretny termin.\NW najbliższym czasie Nocne Zwiedzanie Twierdzy Kłodzko odbywać się będzie:\N\N4, 5, 11, 12, 18, 19, 25, 26 kwietnia (godz. 20.30)\N1, 2, 3, 9, 10, 16, 17, 23, 24, 30, 31 maja (godz. 21.30)\N\NCena: 60 zł od osoby
X-ALT-DESC;FMTTYPE=text/html:<p>Jak w niesamowity sposób spędzić czas? Wziąć udział w Nocnym Zwiedzaniu Twierdzy Kłodzko. Zostaniecie wrzuceni w wir wydarzeń 1807 roku.</p><p>Wróg zbliża się do miasta, mieszkańcy nie czują się bezpieczni i szukają schronienia wewnątrz fortyfikacji. Nie ma jednak nic za darmo – żołnierze co prawda dali się ubłagać i wpuścili cywili za grube mury, ale teraz mieszkańcy muszą się odwdzięczyć. Czeka ich ważna misja... Pomożecie odeprzeć atak wroga? Czekają Was poszukiwania prochu w podziemnym labiryncie chodników kontrminowych, musztra, na swej drodze spotkacie ciekawe postacie, które co nieco Wam opowiedzą i pokażą...</p><p>Aby zarezerwować miejsce na Nocne Zwiedzanie Twierdzy Kłodzko, należy wysłać e-mail na adres: <a href="mailto:nocne@twierdza.klodzko.pl"></a><a href="mailto:nocne@twierdza.klodzko.pl">nocne@twierdza.klodzko.pl</a> lub zadzwonić pod numer tel. 509 951 488 i wskazać konkretny termin.</p><p>W najbliższym czasie Nocne Zwiedzanie Twierdzy Kłodzko odbywać się będzie:</p><ul><li>4, 5, 11, 12, 18, 19, 25, 26 kwietnia (godz. 20.30)</li><li>1, 2, 3, 9, 10, 16, 17, 23, 24, 30, 31 maja (godz. 21.30)</li></ul><p>Cena: 60 zł od osoby</p>
LAST-MODIFIED:20250401T101908Z
SEQUENCE:0
LOCATION:Grodzisko\, 57-300 Kłodzko\, Polska
GEO:50.43974131;16.65323496
X-LOCATION-DISPLAYNAME:Twierdza Kłodzko
X-ACCESS:1
X-HITS:93
X-COLOR:bd0aa2
X-IMAGE-FULL:https://www.um.klodzko.pl/images/news/2025/nocne-kwiecien2025.jpg
X-SHOW-END-TIME:1
END:VEVENT
BEGIN:VEVENT
DTSTART;TZID=Europe/Warsaw:20250514T130000
DTEND;TZID=Europe/Warsaw:20250514T140000
UID:4B4E69FD-ECCE-498E-8859-BA9F4F452710
SUMMARY:Nocne zwiedzanie
CREATED:20250514T114543Z
DTSTAMP:20250514T114543Z
URL:https://www.twierdza.klodzko.pl/
DESCRIPTION:Jak w niesamowity sposób spędzić czas? Wziąć udział w Nocnym Zwiedzaniu Twierdzy Kłodzko. Zostaniecie wrzuceni w wir wydarzeń 1807 roku.\NWróg zbliża się do miasta, mieszkańcy nie czują się bezpieczni i szukają schronienia wewnątrz fortyfikacji. Nie ma jednak nic za darmo – żołnierze co prawda dali się ubłagać i wpuścili cywili za grube mury, ale teraz mieszkańcy muszą się odwdzięczyć. Czeka ich ważna misja... Pomożecie odeprzeć atak wroga? Czekają Was poszukiwania prochu w podziemnym labiryncie chodników kontrminowych, musztra, na swej drodze spotkacie ciekawe postacie, które co nieco Wam opowiedzą i pokażą...\NAby zarezerwować miejsce na Nocne Zwiedzanie Twierdzy Kłodzko, należy wysłać e-mail na adres: nocne@twierdza.klodzko.pl lub zadzwonić pod numer tel. 509 951 488 i wskazać konkretny termin.\NW najbliższym czasie Nocne Zwiedzanie Twierdzy Kłodzko odbywać się będzie:\N\N 1, 2, 3, 9, 10, 16, 17, 23, 24, 30, 31 maja (godz. 21.30)\N\NNocne Zwiedzanie Twierdzy Kłodzko w sezonie letnim:\N\N 6, 7, 13, 14, 20, 21, 27, 28 czerwca - godz. 21.30\N 4, 5, 11, 12, 18, 19, 25, 25 lipca - godz. 21.30\N 1, 2, 8, 9, 15, 16, 22, 23, 29, 30 sierpnia - godz. 21.00\N\NCena: 60 zł od osoby
X-ALT-DESC;FMTTYPE=text/html:<p>Jak w niesamowity sposób spędzić czas? Wziąć udział w Nocnym Zwiedzaniu Twierdzy Kłodzko. Zostaniecie wrzuceni w wir wydarzeń 1807 roku.</p><p>Wróg zbliża się do miasta, mieszkańcy nie czują się bezpieczni i szukają schronienia wewnątrz fortyfikacji. Nie ma jednak nic za darmo – żołnierze co prawda dali się ubłagać i wpuścili cywili za grube mury, ale teraz mieszkańcy muszą się odwdzięczyć. Czeka ich ważna misja...&nbsp;Pomożecie odeprzeć atak wroga? Czekają Was poszukiwania prochu w podziemnym labiryncie chodników kontrminowych, musztra, na swej drodze spotkacie ciekawe postacie, które co nieco Wam opowiedzą i pokażą...</p><p>Aby zarezerwować miejsce na Nocne Zwiedzanie Twierdzy Kłodzko, należy wysłać e-mail na adres: <strong><a href="mailto:nocne@twierdza.klodzko.pl"></a><a href="mailto:nocne@twierdza.klodzko.pl">nocne@twierdza.klodzko.pl</a></strong>&nbsp;lub zadzwonić pod numer<strong> tel.&nbsp;509 951 488</strong> i wskazać konkretny termin.</p><p>W najbliższym czasie Nocne Zwiedzanie Twierdzy Kłodzko odbywać się będzie:</p><ul><li><strong> 1, 2, 3, 9, 10, 16, 17, 23, 24, 30, 31 maja (godz. 21.30)</strong></li></ul><p><strong>Nocne Zwiedzanie Twierdzy Kłodzko w sezonie letnim:</strong></p><ul><li><strong> 6, 7, 13, 14, 20, 21, 27, 28 czerwca - godz. 21.30</strong></li><li><strong> 4, 5, 11, 12, 18, 19, 25, 25 lipca - godz. 21.30</strong></li><li><strong> 1, 2, 8, 9, 15, 16, 22, 23, 29, 30 sierpnia - godz. 21.00</strong></li></ul><p>Cena: 60 zł od osoby</p>
LAST-MODIFIED:20250514T114543Z
SEQUENCE:0
LOCATION:Grodzisko\, 57-300 Kłodzko\, Polska
GEO:50.43974131;16.65323496
X-LOCATION-DISPLAYNAME:Twierdza Kłodzko
X-ACCESS:1
X-HITS:0
X-COLOR:bd0aa2
X-IMAGE-FULL:https://www.um.klodzko.pl/images/news/2025/nocne-fb-maj.jpg
X-SHOW-END-TIME:1
END:VEVENT
BEGIN:VEVENT
DTSTART;TZID=Europe/Warsaw:20251205T170000
DTEND;TZID=Europe/Warsaw:20251230T180000
UID:EEE28054-CD76-4CCE-A9C1-EA80904563C8
SUMMARY:Nocne Zwiedzanie - grudzień
CREATED:20251204T074952Z
DTSTAMP:20251204T074952Z
URL:https://www.twierdza.klodzko.pl/
DESCRIPTION:Tak, tak. Wiemy! W grudniu to raczej myślicie o lepieniu uszek, robieniu zakwasu na piernik, tudzież co tam świety powinien podrzucić pod choinkę. Jednakże nie znaczy to, że nie możecie się oderwać od grudniowych sprawunków i udać się do Twierdzy Kłodzko po przygodę. Bo u nas – niczym bożonarodzeniowy karp – tradycją jest to, że w weekned czeka na Was NOCNE ZWIEDZANIE TWIERDZY KŁODZKO\NZatem 5, 6, 12, 13, 19, 20, 27, 30 grudnia, o godz. 17.00, wbijacie do Twierdzy Kłodzko i dobrze się bawicie.\NZabierzemy Was do roku 1807. Akurat do miasta zbliżają się wrogie wojska, a Wy przecież trzeźwo myślicie i nie chcecie się znaleźć między dwoma armiami. Schronić się można w Twierdzy Kłodzko, jej grube mury powinny odeprzeć każdy atak. Ale żołnierze nie dadzą Wam spokoju, otrzymacie ważne zadanie do wykonania...\NAby wziąć udział w NOCNYM ZWIEDZANIU TWIERDZY KŁODZKO, wystarczy napisać na adres 📧 nocne@twierdza.klodzko.pl lub zadzwonić pod numer 📞 509 951 488.\NCena: 60 zł od osoby
X-ALT-DESC;FMTTYPE=text/html:<p>Tak, tak. Wiemy! W grudniu to raczej myślicie o lepieniu uszek, robieniu zakwasu na piernik, tudzież co tam świety powinien podrzucić pod choinkę. Jednakże nie znaczy to, że nie możecie się oderwać od grudniowych sprawunków i udać się do Twierdzy Kłodzko po przygodę. Bo u nas – niczym bożonarodzeniowy karp – tradycją jest to, że w weekned czeka na Was NOCNE ZWIEDZANIE TWIERDZY KŁODZKO</p><p>Zatem 5, 6, 12, 13, 19, 20, 27, 30 grudnia, o godz. 17.00, wbijacie do Twierdzy Kłodzko i dobrze się bawicie.</p><p>Zabierzemy Was do roku 1807. Akurat do miasta zbliżają się wrogie wojska, a Wy przecież trzeźwo myślicie i nie chcecie się znaleźć między dwoma armiami. Schronić się można w Twierdzy Kłodzko, jej grube mury powinny odeprzeć każdy atak. Ale żołnierze nie dadzą Wam spokoju, otrzymacie ważne zadanie do wykonania...</p><p>Aby wziąć udział w NOCNYM ZWIEDZANIU TWIERDZY KŁODZKO, wystarczy napisać na adres 📧 <a href="mailto:nocne@twierdza.klodzko.pl">nocne@twierdza.klodzko.pl</a> lub zadzwonić pod numer 📞 509 951 488.</p><p>Cena: 60 zł od osoby</p>
LAST-MODIFIED:20251204T074952Z
SEQUENCE:0
LOCATION:Grodzisko\, 57-300 Kłodzko\, Polska
GEO:50.43974131;16.65323496
X-LOCATION-DISPLAYNAME:Twierdza Kłodzko
X-ACCESS:1
X-HITS:115
X-COLOR:bd0aa2
X-IMAGE-FULL:https://www.um.klodzko.pl/images/news/2025/nocne_grudzien.jpg
X-SHOW-END-TIME:1
END:VEVENT
END:VCALENDAR